BEGIN:VCALENDAR
VERSION:2.0
PRODID:-//Romanian Sailing Events - ECPv6.3.7//NONSGML v1.0//EN
CALSCALE:GREGORIAN
METHOD:PUBLISH
X-ORIGINAL-URL:https://sailingevents.hornetz.net
X-WR-CALDESC:Events for Romanian Sailing Events
REFRESH-INTERVAL;VALUE=DURATION:PT1H
X-Robots-Tag:noindex
X-PUBLISHED-TTL:PT1H
BEGIN:VTIMEZONE
TZID:Europe/Moscow
BEGIN:STANDARD
TZOFFSETFROM:+0300
TZOFFSETTO:+0300
TZNAME:MSK
DTSTART:20240101T000000
END:STANDARD
END:VTIMEZONE
BEGIN:VEVENT
DTSTART;TZID=Europe/Moscow:20240601T170000
DTEND;TZID=Europe/Moscow:20240608T083000
DTSTAMP:20260425T131956
CREATED:20240425T112955Z
LAST-MODIFIED:20240425T113028Z
UID:28-1717261200-1717835400@sailingevents.hornetz.net
SUMMARY:Amalfi Sailing Week – Iunie 2024 - Editia 4
DESCRIPTION:Albastrul mării\, verdele marchizului mediteranean și nuanțele citricelor răspândite pe culturile terasate se îmbină cu arhitectura tipică pentru a crea unul dintre cele mai frumoase itinerarii din Italia: Coasta Amalfitana. \n\n\n\nFarmecul conținut de această coastă și de aceste insule\, peisajele spectaculoase\, aromele și mirosurile îmbătătoare îți vor implica toate simțurile. Frumusețile naturale din Ischia și Capri unde fiecare plajă are un farmec aparte care o distinge și o face unică\, iar apoi natura și istoria în zona arheologică marină unică din lume. \n\n\n\nVom descoperi Amalfi\, Positano\, Capri\, Ischia\, Procida într-o magnifică aventură de seiling de o săptămână! \n\n\n\nTARIF: 800€*/persoana – loc in cabina dubla (Veliere generatie noua 2019 – 2023\, cu 3 sau 4 cabine duble)
URL:https://sailingevents.hornetz.net/event/amalfi-sailing-week-iunie-2024-editia-4/
LOCATION:Coasta Amalfitana\, Italia\, Amalfi\, Italia
ATTACH;FMTTYPE=image/jpeg:https://sailingevents.hornetz.net/wp-content/uploads/2024/04/Cyclade-Sailing-Week-2024-format-patrat-coperta-site.jpg
ORGANIZER;CN="Redlotus Charter":MAILTO:office@redlotus-charter.ro
END:VEVENT
END:VCALENDAR