BEGIN:VCALENDAR
VERSION:2.0
PRODID:-//Romanian Sailing Events - ECPv6.3.7//NONSGML v1.0//EN
CALSCALE:GREGORIAN
METHOD:PUBLISH
X-ORIGINAL-URL:https://sailingevents.hornetz.net
X-WR-CALDESC:Events for Romanian Sailing Events
REFRESH-INTERVAL;VALUE=DURATION:PT1H
X-Robots-Tag:noindex
X-PUBLISHED-TTL:PT1H
BEGIN:VTIMEZONE
TZID:Europe/Moscow
BEGIN:STANDARD
TZOFFSETFROM:+0300
TZOFFSETTO:+0300
TZNAME:MSK
DTSTART:20240101T000000
END:STANDARD
END:VTIMEZONE
BEGIN:VEVENT
DTSTART;TZID=Europe/Moscow:20240504T170000
DTEND;TZID=Europe/Moscow:20240511T170000
DTSTAMP:20260425T144236
CREATED:20240424T074144Z
LAST-MODIFIED:20240424T074251Z
UID:8-1714842000-1715446800@sailingevents.hornetz.net
SUMMARY:MILES BUILDING – Saronic/Cyclade 2024 – Editia 6
DESCRIPTION:Insulele Saronice si Insulele Cyclade ofera unele dintre cele mai bune destinatii din Grecia. \nAceasta ruta este perfecta pentru cei care cauta o experienta autentica de navigatie pe insula greceasca. \nNavigatia consta in mari mai calme\, timpi de navigatie mai scurti si oportunitati pentru opriri mai lungi de inot intre insule. \nArhipelagul Saronic este renumit pentru peisajul sau luxuriant\, arhitectura neoclasica uimitoare si scena vibranta de restaurante si viata de noapte. \nAceste insule va ofera posibilitatea de a vizita situri arheologice\, de a sari de pe stanci in Marea Egee\, de a face drumetii pe cai stravechi si de a face plimbari cu magari pe strazile pietruite. \n  \nTARIF: 575€*/persoana – loc in cabina dubla \n  \nLA CE SA TE ASTEPTI: \n\nTimp de navigatieintre insule: 4-8 ore\nVanturi si conditii maritime: in general usoare\nArhitectura: neoclasica
URL:https://sailingevents.hornetz.net/event/miles-building-saronic-cyclade-2024-editia-6/
LOCATION:Saronic arhipelag\, Grecia\, Grecia
CATEGORIES:Expeditii
ATTACH;FMTTYPE=image/jpeg:https://sailingevents.hornetz.net/wp-content/uploads/2024/04/Cyclade-Sailing-Week-2024-format-patrat-coperta-site.jpg
ORGANIZER;CN="Redlotus Charter":MAILTO:office@redlotus-charter.ro
END:VEVENT
END:VCALENDAR